BEGIN:VCALENDAR
VERSION:2.0
PRODID:-//Aspire Charter Academy - ECPv6.13.2.1//NONSGML v1.0//EN
CALSCALE:GREGORIAN
METHOD:PUBLISH
X-ORIGINAL-URL:https://aspirecharteracademy.com
X-WR-CALDESC:Events for Aspire Charter Academy
REFRESH-INTERVAL;VALUE=DURATION:PT1H
X-Robots-Tag:noindex
X-PUBLISHED-TTL:PT1H
BEGIN:VTIMEZONE
TZID:America/New_York
BEGIN:DAYLIGHT
TZOFFSETFROM:-0500
TZOFFSETTO:-0400
TZNAME:EDT
DTSTART:20250309T070000
END:DAYLIGHT
BEGIN:STANDARD
TZOFFSETFROM:-0400
TZOFFSETTO:-0500
TZNAME:EST
DTSTART:20251102T060000
END:STANDARD
END:VTIMEZONE
BEGIN:VEVENT
DTSTART;TZID=America/New_York:20250807T140000
DTEND;TZID=America/New_York:20250807T150000
DTSTAMP:20260425T144002
CREATED:20250721T163110Z
LAST-MODIFIED:20250721T163110Z
UID:2660-1754575200-1754578800@aspirecharteracademy.com
SUMMARY:Kindergarten Orientation!
DESCRIPTION:
URL:https://aspirecharteracademy.com/event/kindergarten-orientation-2/
END:VEVENT
BEGIN:VEVENT
DTSTART;TZID=America/New_York:20250807T150000
DTEND;TZID=America/New_York:20250807T160000
DTSTAMP:20260425T144002
CREATED:20250721T163352Z
LAST-MODIFIED:20250721T163352Z
UID:2663-1754578800-1754582400@aspirecharteracademy.com
SUMMARY:Meet Your Teacher!  Session 1
DESCRIPTION:
URL:https://aspirecharteracademy.com/event/meet-your-teacher-session-1/
END:VEVENT
BEGIN:VEVENT
DTSTART;TZID=America/New_York:20250807T210000
DTEND;TZID=America/New_York:20250807T220000
DTSTAMP:20260425T144002
CREATED:20250721T163427Z
LAST-MODIFIED:20250721T163427Z
UID:2665-1754600400-1754604000@aspirecharteracademy.com
SUMMARY:Meet Your Teacher!  Session 2
DESCRIPTION:
URL:https://aspirecharteracademy.com/event/meet-your-teacher-session-2/
END:VEVENT
BEGIN:VEVENT
DTSTART;VALUE=DATE:20250811
DTEND;VALUE=DATE:20250813
DTSTAMP:20260425T144002
CREATED:20250721T162919Z
LAST-MODIFIED:20250721T162919Z
UID:2658-1754884800-1754971199@aspirecharteracademy.com
SUMMARY:First Day of School!!
DESCRIPTION:
URL:https://aspirecharteracademy.com/event/first-day-of-school-2/
END:VEVENT
BEGIN:VEVENT
DTSTART;VALUE=DATE:20250815
DTEND;VALUE=DATE:20250817
DTSTAMP:20260425T144002
CREATED:20250721T163455Z
LAST-MODIFIED:20250721T163455Z
UID:2667-1755230400-1755316799@aspirecharteracademy.com
SUMMARY:House Sorting Day!
DESCRIPTION:
URL:https://aspirecharteracademy.com/event/house-sorting-day-2/
END:VEVENT
END:VCALENDAR