BEGIN:VCALENDAR
VERSION:2.0
PRODID:-//Aspire Charter Academy - ECPv6.13.2.1//NONSGML v1.0//EN
CALSCALE:GREGORIAN
METHOD:PUBLISH
X-ORIGINAL-URL:https://aspirecharteracademy.com
X-WR-CALDESC:Events for Aspire Charter Academy
REFRESH-INTERVAL;VALUE=DURATION:PT1H
X-Robots-Tag:noindex
X-PUBLISHED-TTL:PT1H
BEGIN:VTIMEZONE
TZID:America/New_York
BEGIN:DAYLIGHT
TZOFFSETFROM:-0500
TZOFFSETTO:-0400
TZNAME:EDT
DTSTART:20250309T070000
END:DAYLIGHT
BEGIN:STANDARD
TZOFFSETFROM:-0400
TZOFFSETTO:-0500
TZNAME:EST
DTSTART:20251102T060000
END:STANDARD
BEGIN:DAYLIGHT
TZOFFSETFROM:-0500
TZOFFSETTO:-0400
TZNAME:EDT
DTSTART:20260308T070000
END:DAYLIGHT
BEGIN:STANDARD
TZOFFSETFROM:-0400
TZOFFSETTO:-0500
TZNAME:EST
DTSTART:20261101T060000
END:STANDARD
END:VTIMEZONE
BEGIN:VEVENT
DTSTART;VALUE=DATE:20251222
DTEND;VALUE=DATE:20260104
DTSTAMP:20260425T064022
CREATED:20250721T171514Z
LAST-MODIFIED:20250721T171514Z
UID:2725-1766379600-1767416399@aspirecharteracademy.com
SUMMARY:No School:  Winter Break
DESCRIPTION:
URL:https://aspirecharteracademy.com/event/no-school-winter-break/
END:VEVENT
BEGIN:VEVENT
DTSTART;VALUE=DATE:20260105
DTEND;VALUE=DATE:20260107
DTSTAMP:20260425T064022
CREATED:20250721T171604Z
LAST-MODIFIED:20250721T171604Z
UID:2727-1767589200-1767675599@aspirecharteracademy.com
SUMMARY:No School:  Teacher Workday
DESCRIPTION:
URL:https://aspirecharteracademy.com/event/no-school-teacher-workday-2/
END:VEVENT
BEGIN:VEVENT
DTSTART;TZID=America/New_York:20260115T220000
DTEND;TZID=America/New_York:20260116T000000
DTSTAMP:20260425T064022
CREATED:20250721T171655Z
LAST-MODIFIED:20250721T171655Z
UID:2729-1768514400-1768521600@aspirecharteracademy.com
SUMMARY:Science Night
DESCRIPTION:
URL:https://aspirecharteracademy.com/event/science-night/
END:VEVENT
BEGIN:VEVENT
DTSTART;VALUE=DATE:20260119
DTEND;VALUE=DATE:20260121
DTSTAMP:20260425T064022
CREATED:20250721T171745Z
LAST-MODIFIED:20250721T171745Z
UID:2731-1768798800-1768885199@aspirecharteracademy.com
SUMMARY:No School:  Martin Luther King Jr. Holiday
DESCRIPTION:
URL:https://aspirecharteracademy.com/event/no-school-martin-luther-king-jr-holiday/
END:VEVENT
END:VCALENDAR