BEGIN:VCALENDAR
VERSION:2.0
PRODID:-//Aspire Charter Academy - ECPv6.13.2.1//NONSGML v1.0//EN
CALSCALE:GREGORIAN
METHOD:PUBLISH
X-ORIGINAL-URL:https://aspirecharteracademy.com
X-WR-CALDESC:Events for Aspire Charter Academy
REFRESH-INTERVAL;VALUE=DURATION:PT1H
X-Robots-Tag:noindex
X-PUBLISHED-TTL:PT1H
BEGIN:VTIMEZONE
TZID:America/New_York
BEGIN:DAYLIGHT
TZOFFSETFROM:-0500
TZOFFSETTO:-0400
TZNAME:EDT
DTSTART:20260308T070000
END:DAYLIGHT
BEGIN:STANDARD
TZOFFSETFROM:-0400
TZOFFSETTO:-0500
TZNAME:EST
DTSTART:20261101T060000
END:STANDARD
END:VTIMEZONE
BEGIN:VEVENT
DTSTART;VALUE=DATE:20260423
DTEND;VALUE=DATE:20260425
DTSTAMP:20260423T130510
CREATED:20250721T174949Z
LAST-MODIFIED:20250721T174949Z
UID:2749-1776916800-1777003199@aspirecharteracademy.com
SUMMARY:Physics Day!
DESCRIPTION:FACE
URL:https://aspirecharteracademy.com/event/physics-day/
END:VEVENT
BEGIN:VEVENT
DTSTART;VALUE=DATE:20260424
DTEND;VALUE=DATE:20260426
DTSTAMP:20260423T130510
CREATED:20250721T175037Z
LAST-MODIFIED:20250721T175037Z
UID:2752-1777003200-1777089599@aspirecharteracademy.com
SUMMARY:No School:  Teacher Non-Workday
DESCRIPTION:
URL:https://aspirecharteracademy.com/event/no-school-teacher-non-workday/
END:VEVENT
BEGIN:VEVENT
DTSTART;VALUE=DATE:20260428
DTEND;VALUE=DATE:20260430
DTSTAMP:20260423T130510
CREATED:20250721T175238Z
LAST-MODIFIED:20250721T175238Z
UID:2756-1777348800-1777435199@aspirecharteracademy.com
SUMMARY:Bus Driver & Staff Appreciation Day
DESCRIPTION:
URL:https://aspirecharteracademy.com/event/bus-driver-staff-appreciation-day/
END:VEVENT
END:VCALENDAR